BEGIN:VCALENDAR
VERSION:2.0
PRODID:-//Tukios.com/
BEGIN:VEVENT
UID:cf3fa2ef-c994-42da-b3df-8dc02257a5f7@www.charlestonfunerals.com
DTSTAMP:20260423T005640Z
DTSTART:20260501T210000Z
DTEND:20260501T230000Z
SUMMARY:The Family Will Receive Friends
DESCRIPTION:
URL:https://www.charlestonfunerals.com/obituaries/robert-boinest
LOCATION:James A. McAlister Funeral Home 1620 Savannah Highway  
	Charleston SC 29407
GEO:32.7871006;-80.0129398
END:VEVENT
END:VCALENDAR