BEGIN:VCALENDAR
VERSION:2.0
PRODID:-//Tukios.com/
BEGIN:VEVENT
UID:9f5fd4a2-b4f4-4978-b0f5-2f3b436f01c8@www.charlestonfunerals.com
DTSTAMP:20260423T004834Z
DTSTART:20260502T150000Z
DTEND:20260502T160000Z
SUMMARY:Funeral Service
DESCRIPTION:
URL:https://www.charlestonfunerals.com/obituaries/robert-boinest
LOCATION:Old St. Andrew's Parish Anglican Church 2604 Ashley River Road  
	Charleston SC 29414
GEO:32.8385337;-80.0490172
END:VEVENT
END:VCALENDAR