BEGIN:VCALENDAR
VERSION:2.0
PRODID:-//Tukios.com/
BEGIN:VEVENT
UID:18a8b9e7-4e8a-4edb-9530-1e846fdcdf8d@www.charlestonfunerals.com
DTSTAMP:20260421T214822Z
DTSTART:20260427T150000Z
DTEND:20260427T161500Z
SUMMARY:The Family Will Receive Friends
DESCRIPTION:
URL:https://www.charlestonfunerals.com/obituaries/kathleen-steelman
LOCATION:James A. McAlister Funeral Home 1620 Savannah Highway  
	Charleston SC 29407
GEO:32.7871006;-80.0129398
END:VEVENT
END:VCALENDAR