BEGIN:VCALENDAR
VERSION:2.0
PRODID:-//Tukios.com/
BEGIN:VEVENT
UID:3f1d1c02-6e9b-4bdd-945a-f2a6f76a7c22@www.charlestonfunerals.com
DTSTAMP:20260423T085309Z
DTSTART:20260427T170000Z
DTEND:20260427T173000Z
SUMMARY:Graveside Service
DESCRIPTION:
URL:https://www.charlestonfunerals.com/obituaries/kathleen-steelman
LOCATION:Holy Cross Cemetery 604 Fort Johnson Road  Charleston SC 29412
GEO:32.7409651;-79.9147226
END:VEVENT
END:VCALENDAR