BEGIN:VCALENDAR
VERSION:2.0
PRODID:-//Tukios.com/
BEGIN:VEVENT
UID:b295edb2-48ec-4290-aa50-35796356c631@www.charlestonfunerals.com
DTSTAMP:20260421T011224Z
DTSTART:20260424T170000Z
DTEND:20260424T173000Z
SUMMARY:Graveside Service
DESCRIPTION:
URL:https://www.charlestonfunerals.com/obituaries/bernadine-glenn
LOCATION:Holy Cross Cemetery 604 Fort Johnson Road  Charleston SC 29412
GEO:32.7409651;-79.9147226
END:VEVENT
END:VCALENDAR